BEGIN:VCALENDAR
VERSION:2.0
PRODID:-//Anytime Fitness Qatar - ECPv6.15.20//NONSGML v1.0//EN
CALSCALE:GREGORIAN
METHOD:PUBLISH
X-WR-CALNAME:Anytime Fitness Qatar
X-ORIGINAL-URL:https://anytimefitness.qa
X-WR-CALDESC:Events for Anytime Fitness Qatar
REFRESH-INTERVAL;VALUE=DURATION:PT1H
X-Robots-Tag:noindex
X-PUBLISHED-TTL:PT1H
BEGIN:VTIMEZONE
TZID:Asia/Qatar
BEGIN:STANDARD
TZOFFSETFROM:+0300
TZOFFSETTO:+0300
TZNAME:+03
DTSTART:20250101T000000
END:STANDARD
END:VTIMEZONE
BEGIN:VEVENT
DTSTART;TZID=Asia/Qatar:20260424T100000
DTEND;TZID=Asia/Qatar:20260424T104500
DTSTAMP:20260424T124807
CREATED:20260401T174148Z
LAST-MODIFIED:20260401T174148Z
UID:10005857-1777024800-1777027500@anytimefitness.qa
SUMMARY:HIIT (LADIES)
DESCRIPTION:HIIT is one of the best fitness training programs in the world. It’s a mix of cardio and strength training which makes it a very challenging\, ultimate full body workout. It’s very popular for fat burning maximum calories in minimal time
URL:https://anytimefitness.qa/group-class/hiit-ladies/2026-04-24/
LOCATION:Bin Mahmoud\, Al Rayyan Road\, Almuftah Plaza\, Doha\, Qatar
CATEGORIES:Muscular / Toning
GEO:25.28967922612;51.510527905889
X-APPLE-STRUCTURED-LOCATION;VALUE=URI;X-ADDRESS=Bin Mahmoud Al Rayyan Road Almuftah Plaza Doha Qatar;X-APPLE-RADIUS=500;X-TITLE=Al Rayyan Road\, Almuftah Plaza:geo:51.510527905889,25.28967922612
END:VEVENT
BEGIN:VEVENT
DTSTART;TZID=Asia/Qatar:20260424T110000
DTEND;TZID=Asia/Qatar:20260424T114500
DTSTAMP:20260424T124807
CREATED:20260401T175059Z
LAST-MODIFIED:20260401T175059Z
UID:10005870-1777028400-1777031100@anytimefitness.qa
SUMMARY:FLOW STRETCH (LADIES)
DESCRIPTION:The Flow Stretch is a flexibility and mobility class that helps improve range of motion while activating muscles\, connecting the body and mind as we increase flexibility and muscle control.
URL:https://anytimefitness.qa/group-class/flow-stretch-ladies/2026-04-24/
LOCATION:Bin Mahmoud\, Al Rayyan Road\, Almuftah Plaza\, Doha\, Qatar
CATEGORIES:Mind & Body
GEO:25.28967922612;51.510527905889
X-APPLE-STRUCTURED-LOCATION;VALUE=URI;X-ADDRESS=Bin Mahmoud Al Rayyan Road Almuftah Plaza Doha Qatar;X-APPLE-RADIUS=500;X-TITLE=Al Rayyan Road\, Almuftah Plaza:geo:51.510527905889,25.28967922612
END:VEVENT
BEGIN:VEVENT
DTSTART;TZID=Asia/Qatar:20260424T130000
DTEND;TZID=Asia/Qatar:20260424T134500
DTSTAMP:20260424T124807
CREATED:20260401T161256Z
LAST-MODIFIED:20260401T161256Z
UID:10005701-1777035600-1777038300@anytimefitness.qa
SUMMARY:UPPER BODY WORKOUT (LADIES)
DESCRIPTION:Exercises for the upper body that focus on strengthening the chest\, back\, and arms\, in addition to the abdominal muscles! There are no requirements that need to be fulfilled in order to enroll in the class.
URL:https://anytimefitness.qa/group-class/upper-body-workout-ladies/2026-04-24/
LOCATION:Al Wakrah Ladies\, Al Wakrah Main St\, Almuftah Commercial Center\, Al Wakrah\, Qatar
CATEGORIES:Muscular / Toning
GEO:25.186170262618;51.600415128098
X-APPLE-STRUCTURED-LOCATION;VALUE=URI;X-ADDRESS=Al Wakrah Ladies Al Wakrah Main St Almuftah Commercial Center Al Wakrah Qatar;X-APPLE-RADIUS=500;X-TITLE=Al Wakrah Main St\, Almuftah Commercial Center:geo:51.600415128098,25.186170262618
END:VEVENT
END:VCALENDAR