BEGIN:VCALENDAR
VERSION:2.0
PRODID:-//Anytime Fitness Qatar - ECPv6.15.20//NONSGML v1.0//EN
CALSCALE:GREGORIAN
METHOD:PUBLISH
X-WR-CALNAME:Anytime Fitness Qatar
X-ORIGINAL-URL:https://anytimefitness.qa
X-WR-CALDESC:Events for Anytime Fitness Qatar
REFRESH-INTERVAL;VALUE=DURATION:PT1H
X-Robots-Tag:noindex
X-PUBLISHED-TTL:PT1H
BEGIN:VTIMEZONE
TZID:Asia/Qatar
BEGIN:STANDARD
TZOFFSETFROM:+0300
TZOFFSETTO:+0300
TZNAME:+03
DTSTART:20250101T000000
END:STANDARD
END:VTIMEZONE
BEGIN:VEVENT
DTSTART;TZID=Asia/Qatar:20260427T130000
DTEND;TZID=Asia/Qatar:20260427T134500
DTSTAMP:20260425T132612
CREATED:20260331T170607Z
LAST-MODIFIED:20260331T170607Z
UID:10005205-1777294800-1777297500@anytimefitness.qa
SUMMARY:STEP
DESCRIPTION:Using adjustable steppers\, this class uses cardio to produce an easy to learn and effective workout. The benefits of step classes are proven to strengthen and tone muscle groups and improve coordination.
URL:https://anytimefitness.qa/group-class/step/2026-04-27/
LOCATION:Al Hilal\, Al Hilal\, Ali Area\, Al Tadamon Complex\, Doha
CATEGORIES:Cardiovascular
GEO:25.25404422133;51.51515716285
X-APPLE-STRUCTURED-LOCATION;VALUE=URI;X-ADDRESS=Al Hilal Al Hilal Ali Area Al Tadamon Complex Doha;X-APPLE-RADIUS=500;X-TITLE=Al Hilal\, Ali Area\, Al Tadamon Complex:geo:51.51515716285,25.25404422133
END:VEVENT
BEGIN:VEVENT
DTSTART;TZID=Asia/Qatar:20260428T130000
DTEND;TZID=Asia/Qatar:20260428T134500
DTSTAMP:20260425T132612
CREATED:20260331T172032Z
LAST-MODIFIED:20260331T172032Z
UID:10005232-1777381200-1777383900@anytimefitness.qa
SUMMARY:STEP
DESCRIPTION:Using adjustable steppers\, this class uses cardio to produce an easy to learn and effective workout. The benefits of step classes are proven to strengthen and tone muscle groups and improve coordination.
URL:https://anytimefitness.qa/group-class/step-2/2026-04-28/
LOCATION:Al Hilal\, Al Hilal\, Ali Area\, Al Tadamon Complex\, Doha
CATEGORIES:Cardiovascular
GEO:25.25404422133;51.51515716285
X-APPLE-STRUCTURED-LOCATION;VALUE=URI;X-ADDRESS=Al Hilal Al Hilal Ali Area Al Tadamon Complex Doha;X-APPLE-RADIUS=500;X-TITLE=Al Hilal\, Ali Area\, Al Tadamon Complex:geo:51.51515716285,25.25404422133
END:VEVENT
BEGIN:VEVENT
DTSTART;TZID=Asia/Qatar:20260504T130000
DTEND;TZID=Asia/Qatar:20260504T134500
DTSTAMP:20260425T132612
CREATED:20260331T170607Z
LAST-MODIFIED:20260331T170607Z
UID:10005206-1777899600-1777902300@anytimefitness.qa
SUMMARY:STEP
DESCRIPTION:Using adjustable steppers\, this class uses cardio to produce an easy to learn and effective workout. The benefits of step classes are proven to strengthen and tone muscle groups and improve coordination.
URL:https://anytimefitness.qa/group-class/step/2026-05-04/
LOCATION:Al Hilal\, Al Hilal\, Ali Area\, Al Tadamon Complex\, Doha
CATEGORIES:Cardiovascular
GEO:25.25404422133;51.51515716285
X-APPLE-STRUCTURED-LOCATION;VALUE=URI;X-ADDRESS=Al Hilal Al Hilal Ali Area Al Tadamon Complex Doha;X-APPLE-RADIUS=500;X-TITLE=Al Hilal\, Ali Area\, Al Tadamon Complex:geo:51.51515716285,25.25404422133
END:VEVENT
BEGIN:VEVENT
DTSTART;TZID=Asia/Qatar:20260505T130000
DTEND;TZID=Asia/Qatar:20260505T134500
DTSTAMP:20260425T132612
CREATED:20260331T172032Z
LAST-MODIFIED:20260331T172032Z
UID:10005233-1777986000-1777988700@anytimefitness.qa
SUMMARY:STEP
DESCRIPTION:Using adjustable steppers\, this class uses cardio to produce an easy to learn and effective workout. The benefits of step classes are proven to strengthen and tone muscle groups and improve coordination.
URL:https://anytimefitness.qa/group-class/step-2/2026-05-05/
LOCATION:Al Hilal\, Al Hilal\, Ali Area\, Al Tadamon Complex\, Doha
CATEGORIES:Cardiovascular
GEO:25.25404422133;51.51515716285
X-APPLE-STRUCTURED-LOCATION;VALUE=URI;X-ADDRESS=Al Hilal Al Hilal Ali Area Al Tadamon Complex Doha;X-APPLE-RADIUS=500;X-TITLE=Al Hilal\, Ali Area\, Al Tadamon Complex:geo:51.51515716285,25.25404422133
END:VEVENT
BEGIN:VEVENT
DTSTART;TZID=Asia/Qatar:20260511T130000
DTEND;TZID=Asia/Qatar:20260511T134500
DTSTAMP:20260425T132612
CREATED:20260331T170607Z
LAST-MODIFIED:20260331T170607Z
UID:10005207-1778504400-1778507100@anytimefitness.qa
SUMMARY:STEP
DESCRIPTION:Using adjustable steppers\, this class uses cardio to produce an easy to learn and effective workout. The benefits of step classes are proven to strengthen and tone muscle groups and improve coordination.
URL:https://anytimefitness.qa/group-class/step/2026-05-11/
LOCATION:Al Hilal\, Al Hilal\, Ali Area\, Al Tadamon Complex\, Doha
CATEGORIES:Cardiovascular
GEO:25.25404422133;51.51515716285
X-APPLE-STRUCTURED-LOCATION;VALUE=URI;X-ADDRESS=Al Hilal Al Hilal Ali Area Al Tadamon Complex Doha;X-APPLE-RADIUS=500;X-TITLE=Al Hilal\, Ali Area\, Al Tadamon Complex:geo:51.51515716285,25.25404422133
END:VEVENT
BEGIN:VEVENT
DTSTART;TZID=Asia/Qatar:20260512T130000
DTEND;TZID=Asia/Qatar:20260512T134500
DTSTAMP:20260425T132612
CREATED:20260331T172032Z
LAST-MODIFIED:20260331T172032Z
UID:10005234-1778590800-1778593500@anytimefitness.qa
SUMMARY:STEP
DESCRIPTION:Using adjustable steppers\, this class uses cardio to produce an easy to learn and effective workout. The benefits of step classes are proven to strengthen and tone muscle groups and improve coordination.
URL:https://anytimefitness.qa/group-class/step-2/2026-05-12/
LOCATION:Al Hilal\, Al Hilal\, Ali Area\, Al Tadamon Complex\, Doha
CATEGORIES:Cardiovascular
GEO:25.25404422133;51.51515716285
X-APPLE-STRUCTURED-LOCATION;VALUE=URI;X-ADDRESS=Al Hilal Al Hilal Ali Area Al Tadamon Complex Doha;X-APPLE-RADIUS=500;X-TITLE=Al Hilal\, Ali Area\, Al Tadamon Complex:geo:51.51515716285,25.25404422133
END:VEVENT
BEGIN:VEVENT
DTSTART;TZID=Asia/Qatar:20260518T130000
DTEND;TZID=Asia/Qatar:20260518T134500
DTSTAMP:20260425T132612
CREATED:20260331T170607Z
LAST-MODIFIED:20260331T170607Z
UID:10005208-1779109200-1779111900@anytimefitness.qa
SUMMARY:STEP
DESCRIPTION:Using adjustable steppers\, this class uses cardio to produce an easy to learn and effective workout. The benefits of step classes are proven to strengthen and tone muscle groups and improve coordination.
URL:https://anytimefitness.qa/group-class/step/2026-05-18/
LOCATION:Al Hilal\, Al Hilal\, Ali Area\, Al Tadamon Complex\, Doha
CATEGORIES:Cardiovascular
GEO:25.25404422133;51.51515716285
X-APPLE-STRUCTURED-LOCATION;VALUE=URI;X-ADDRESS=Al Hilal Al Hilal Ali Area Al Tadamon Complex Doha;X-APPLE-RADIUS=500;X-TITLE=Al Hilal\, Ali Area\, Al Tadamon Complex:geo:51.51515716285,25.25404422133
END:VEVENT
BEGIN:VEVENT
DTSTART;TZID=Asia/Qatar:20260519T130000
DTEND;TZID=Asia/Qatar:20260519T134500
DTSTAMP:20260425T132612
CREATED:20260331T172032Z
LAST-MODIFIED:20260331T172032Z
UID:10005235-1779195600-1779198300@anytimefitness.qa
SUMMARY:STEP
DESCRIPTION:Using adjustable steppers\, this class uses cardio to produce an easy to learn and effective workout. The benefits of step classes are proven to strengthen and tone muscle groups and improve coordination.
URL:https://anytimefitness.qa/group-class/step-2/2026-05-19/
LOCATION:Al Hilal\, Al Hilal\, Ali Area\, Al Tadamon Complex\, Doha
CATEGORIES:Cardiovascular
GEO:25.25404422133;51.51515716285
X-APPLE-STRUCTURED-LOCATION;VALUE=URI;X-ADDRESS=Al Hilal Al Hilal Ali Area Al Tadamon Complex Doha;X-APPLE-RADIUS=500;X-TITLE=Al Hilal\, Ali Area\, Al Tadamon Complex:geo:51.51515716285,25.25404422133
END:VEVENT
BEGIN:VEVENT
DTSTART;TZID=Asia/Qatar:20260525T130000
DTEND;TZID=Asia/Qatar:20260525T134500
DTSTAMP:20260425T132612
CREATED:20260331T170607Z
LAST-MODIFIED:20260331T170607Z
UID:10005209-1779714000-1779716700@anytimefitness.qa
SUMMARY:STEP
DESCRIPTION:Using adjustable steppers\, this class uses cardio to produce an easy to learn and effective workout. The benefits of step classes are proven to strengthen and tone muscle groups and improve coordination.
URL:https://anytimefitness.qa/group-class/step/2026-05-25/
LOCATION:Al Hilal\, Al Hilal\, Ali Area\, Al Tadamon Complex\, Doha
CATEGORIES:Cardiovascular
GEO:25.25404422133;51.51515716285
X-APPLE-STRUCTURED-LOCATION;VALUE=URI;X-ADDRESS=Al Hilal Al Hilal Ali Area Al Tadamon Complex Doha;X-APPLE-RADIUS=500;X-TITLE=Al Hilal\, Ali Area\, Al Tadamon Complex:geo:51.51515716285,25.25404422133
END:VEVENT
BEGIN:VEVENT
DTSTART;TZID=Asia/Qatar:20260526T130000
DTEND;TZID=Asia/Qatar:20260526T134500
DTSTAMP:20260425T132612
CREATED:20260331T172032Z
LAST-MODIFIED:20260331T172032Z
UID:10005236-1779800400-1779803100@anytimefitness.qa
SUMMARY:STEP
DESCRIPTION:Using adjustable steppers\, this class uses cardio to produce an easy to learn and effective workout. The benefits of step classes are proven to strengthen and tone muscle groups and improve coordination.
URL:https://anytimefitness.qa/group-class/step-2/2026-05-26/
LOCATION:Al Hilal\, Al Hilal\, Ali Area\, Al Tadamon Complex\, Doha
CATEGORIES:Cardiovascular
GEO:25.25404422133;51.51515716285
X-APPLE-STRUCTURED-LOCATION;VALUE=URI;X-ADDRESS=Al Hilal Al Hilal Ali Area Al Tadamon Complex Doha;X-APPLE-RADIUS=500;X-TITLE=Al Hilal\, Ali Area\, Al Tadamon Complex:geo:51.51515716285,25.25404422133
END:VEVENT
BEGIN:VEVENT
DTSTART;TZID=Asia/Qatar:20260601T130000
DTEND;TZID=Asia/Qatar:20260601T134500
DTSTAMP:20260425T132612
CREATED:20260331T170607Z
LAST-MODIFIED:20260331T170607Z
UID:10005210-1780318800-1780321500@anytimefitness.qa
SUMMARY:STEP
DESCRIPTION:Using adjustable steppers\, this class uses cardio to produce an easy to learn and effective workout. The benefits of step classes are proven to strengthen and tone muscle groups and improve coordination.
URL:https://anytimefitness.qa/group-class/step/2026-06-01/
LOCATION:Al Hilal\, Al Hilal\, Ali Area\, Al Tadamon Complex\, Doha
CATEGORIES:Cardiovascular
GEO:25.25404422133;51.51515716285
X-APPLE-STRUCTURED-LOCATION;VALUE=URI;X-ADDRESS=Al Hilal Al Hilal Ali Area Al Tadamon Complex Doha;X-APPLE-RADIUS=500;X-TITLE=Al Hilal\, Ali Area\, Al Tadamon Complex:geo:51.51515716285,25.25404422133
END:VEVENT
BEGIN:VEVENT
DTSTART;TZID=Asia/Qatar:20260602T130000
DTEND;TZID=Asia/Qatar:20260602T134500
DTSTAMP:20260425T132612
CREATED:20260331T172032Z
LAST-MODIFIED:20260331T172032Z
UID:10005237-1780405200-1780407900@anytimefitness.qa
SUMMARY:STEP
DESCRIPTION:Using adjustable steppers\, this class uses cardio to produce an easy to learn and effective workout. The benefits of step classes are proven to strengthen and tone muscle groups and improve coordination.
URL:https://anytimefitness.qa/group-class/step-2/2026-06-02/
LOCATION:Al Hilal\, Al Hilal\, Ali Area\, Al Tadamon Complex\, Doha
CATEGORIES:Cardiovascular
GEO:25.25404422133;51.51515716285
X-APPLE-STRUCTURED-LOCATION;VALUE=URI;X-ADDRESS=Al Hilal Al Hilal Ali Area Al Tadamon Complex Doha;X-APPLE-RADIUS=500;X-TITLE=Al Hilal\, Ali Area\, Al Tadamon Complex:geo:51.51515716285,25.25404422133
END:VEVENT
BEGIN:VEVENT
DTSTART;TZID=Asia/Qatar:20260608T130000
DTEND;TZID=Asia/Qatar:20260608T134500
DTSTAMP:20260425T132612
CREATED:20260331T170607Z
LAST-MODIFIED:20260331T170607Z
UID:10005211-1780923600-1780926300@anytimefitness.qa
SUMMARY:STEP
DESCRIPTION:Using adjustable steppers\, this class uses cardio to produce an easy to learn and effective workout. The benefits of step classes are proven to strengthen and tone muscle groups and improve coordination.
URL:https://anytimefitness.qa/group-class/step/2026-06-08/
LOCATION:Al Hilal\, Al Hilal\, Ali Area\, Al Tadamon Complex\, Doha
CATEGORIES:Cardiovascular
GEO:25.25404422133;51.51515716285
X-APPLE-STRUCTURED-LOCATION;VALUE=URI;X-ADDRESS=Al Hilal Al Hilal Ali Area Al Tadamon Complex Doha;X-APPLE-RADIUS=500;X-TITLE=Al Hilal\, Ali Area\, Al Tadamon Complex:geo:51.51515716285,25.25404422133
END:VEVENT
BEGIN:VEVENT
DTSTART;TZID=Asia/Qatar:20260609T130000
DTEND;TZID=Asia/Qatar:20260609T134500
DTSTAMP:20260425T132612
CREATED:20260331T172032Z
LAST-MODIFIED:20260331T172032Z
UID:10005238-1781010000-1781012700@anytimefitness.qa
SUMMARY:STEP
DESCRIPTION:Using adjustable steppers\, this class uses cardio to produce an easy to learn and effective workout. The benefits of step classes are proven to strengthen and tone muscle groups and improve coordination.
URL:https://anytimefitness.qa/group-class/step-2/2026-06-09/
LOCATION:Al Hilal\, Al Hilal\, Ali Area\, Al Tadamon Complex\, Doha
CATEGORIES:Cardiovascular
GEO:25.25404422133;51.51515716285
X-APPLE-STRUCTURED-LOCATION;VALUE=URI;X-ADDRESS=Al Hilal Al Hilal Ali Area Al Tadamon Complex Doha;X-APPLE-RADIUS=500;X-TITLE=Al Hilal\, Ali Area\, Al Tadamon Complex:geo:51.51515716285,25.25404422133
END:VEVENT
BEGIN:VEVENT
DTSTART;TZID=Asia/Qatar:20260615T130000
DTEND;TZID=Asia/Qatar:20260615T134500
DTSTAMP:20260425T132612
CREATED:20260331T170607Z
LAST-MODIFIED:20260331T170607Z
UID:10005212-1781528400-1781531100@anytimefitness.qa
SUMMARY:STEP
DESCRIPTION:Using adjustable steppers\, this class uses cardio to produce an easy to learn and effective workout. The benefits of step classes are proven to strengthen and tone muscle groups and improve coordination.
URL:https://anytimefitness.qa/group-class/step/2026-06-15/
LOCATION:Al Hilal\, Al Hilal\, Ali Area\, Al Tadamon Complex\, Doha
CATEGORIES:Cardiovascular
GEO:25.25404422133;51.51515716285
X-APPLE-STRUCTURED-LOCATION;VALUE=URI;X-ADDRESS=Al Hilal Al Hilal Ali Area Al Tadamon Complex Doha;X-APPLE-RADIUS=500;X-TITLE=Al Hilal\, Ali Area\, Al Tadamon Complex:geo:51.51515716285,25.25404422133
END:VEVENT
BEGIN:VEVENT
DTSTART;TZID=Asia/Qatar:20260616T130000
DTEND;TZID=Asia/Qatar:20260616T134500
DTSTAMP:20260425T132612
CREATED:20260331T172032Z
LAST-MODIFIED:20260331T172032Z
UID:10005239-1781614800-1781617500@anytimefitness.qa
SUMMARY:STEP
DESCRIPTION:Using adjustable steppers\, this class uses cardio to produce an easy to learn and effective workout. The benefits of step classes are proven to strengthen and tone muscle groups and improve coordination.
URL:https://anytimefitness.qa/group-class/step-2/2026-06-16/
LOCATION:Al Hilal\, Al Hilal\, Ali Area\, Al Tadamon Complex\, Doha
CATEGORIES:Cardiovascular
GEO:25.25404422133;51.51515716285
X-APPLE-STRUCTURED-LOCATION;VALUE=URI;X-ADDRESS=Al Hilal Al Hilal Ali Area Al Tadamon Complex Doha;X-APPLE-RADIUS=500;X-TITLE=Al Hilal\, Ali Area\, Al Tadamon Complex:geo:51.51515716285,25.25404422133
END:VEVENT
BEGIN:VEVENT
DTSTART;TZID=Asia/Qatar:20260622T130000
DTEND;TZID=Asia/Qatar:20260622T134500
DTSTAMP:20260425T132612
CREATED:20260331T170607Z
LAST-MODIFIED:20260331T170607Z
UID:10005213-1782133200-1782135900@anytimefitness.qa
SUMMARY:STEP
DESCRIPTION:Using adjustable steppers\, this class uses cardio to produce an easy to learn and effective workout. The benefits of step classes are proven to strengthen and tone muscle groups and improve coordination.
URL:https://anytimefitness.qa/group-class/step/2026-06-22/
LOCATION:Al Hilal\, Al Hilal\, Ali Area\, Al Tadamon Complex\, Doha
CATEGORIES:Cardiovascular
GEO:25.25404422133;51.51515716285
X-APPLE-STRUCTURED-LOCATION;VALUE=URI;X-ADDRESS=Al Hilal Al Hilal Ali Area Al Tadamon Complex Doha;X-APPLE-RADIUS=500;X-TITLE=Al Hilal\, Ali Area\, Al Tadamon Complex:geo:51.51515716285,25.25404422133
END:VEVENT
BEGIN:VEVENT
DTSTART;TZID=Asia/Qatar:20260623T130000
DTEND;TZID=Asia/Qatar:20260623T134500
DTSTAMP:20260425T132612
CREATED:20260331T172032Z
LAST-MODIFIED:20260331T172032Z
UID:10005240-1782219600-1782222300@anytimefitness.qa
SUMMARY:STEP
DESCRIPTION:Using adjustable steppers\, this class uses cardio to produce an easy to learn and effective workout. The benefits of step classes are proven to strengthen and tone muscle groups and improve coordination.
URL:https://anytimefitness.qa/group-class/step-2/2026-06-23/
LOCATION:Al Hilal\, Al Hilal\, Ali Area\, Al Tadamon Complex\, Doha
CATEGORIES:Cardiovascular
GEO:25.25404422133;51.51515716285
X-APPLE-STRUCTURED-LOCATION;VALUE=URI;X-ADDRESS=Al Hilal Al Hilal Ali Area Al Tadamon Complex Doha;X-APPLE-RADIUS=500;X-TITLE=Al Hilal\, Ali Area\, Al Tadamon Complex:geo:51.51515716285,25.25404422133
END:VEVENT
BEGIN:VEVENT
DTSTART;TZID=Asia/Qatar:20260629T130000
DTEND;TZID=Asia/Qatar:20260629T134500
DTSTAMP:20260425T132612
CREATED:20260331T170607Z
LAST-MODIFIED:20260331T170607Z
UID:10005214-1782738000-1782740700@anytimefitness.qa
SUMMARY:STEP
DESCRIPTION:Using adjustable steppers\, this class uses cardio to produce an easy to learn and effective workout. The benefits of step classes are proven to strengthen and tone muscle groups and improve coordination.
URL:https://anytimefitness.qa/group-class/step/2026-06-29/
LOCATION:Al Hilal\, Al Hilal\, Ali Area\, Al Tadamon Complex\, Doha
CATEGORIES:Cardiovascular
GEO:25.25404422133;51.51515716285
X-APPLE-STRUCTURED-LOCATION;VALUE=URI;X-ADDRESS=Al Hilal Al Hilal Ali Area Al Tadamon Complex Doha;X-APPLE-RADIUS=500;X-TITLE=Al Hilal\, Ali Area\, Al Tadamon Complex:geo:51.51515716285,25.25404422133
END:VEVENT
BEGIN:VEVENT
DTSTART;TZID=Asia/Qatar:20260630T130000
DTEND;TZID=Asia/Qatar:20260630T134500
DTSTAMP:20260425T132612
CREATED:20260331T172032Z
LAST-MODIFIED:20260331T172032Z
UID:10005241-1782824400-1782827100@anytimefitness.qa
SUMMARY:STEP
DESCRIPTION:Using adjustable steppers\, this class uses cardio to produce an easy to learn and effective workout. The benefits of step classes are proven to strengthen and tone muscle groups and improve coordination.
URL:https://anytimefitness.qa/group-class/step-2/2026-06-30/
LOCATION:Al Hilal\, Al Hilal\, Ali Area\, Al Tadamon Complex\, Doha
CATEGORIES:Cardiovascular
GEO:25.25404422133;51.51515716285
X-APPLE-STRUCTURED-LOCATION;VALUE=URI;X-ADDRESS=Al Hilal Al Hilal Ali Area Al Tadamon Complex Doha;X-APPLE-RADIUS=500;X-TITLE=Al Hilal\, Ali Area\, Al Tadamon Complex:geo:51.51515716285,25.25404422133
END:VEVENT
END:VCALENDAR